BEGIN:VCALENDAR
VERSION:2.0
PRODID:-//Tukios.com/
BEGIN:VEVENT
UID:5fe4d155-9a01-48a3-a889-a3df1e17f0d0@www.edleemortuary.com
DTSTAMP:20260419T225731Z
DTSTART:20260424T170000Z
DTEND:20260424T180000Z
SUMMARY:Funeral Service
DESCRIPTION:
URL:https://www.edleemortuary.com/obituaries/teresa-horsting
LOCATION:Ed L. Lee Mortuary 620 E Viola Ave  Washington IN 47501
GEO:38.6697713;-87.1665656
END:VEVENT
END:VCALENDAR