BEGIN:VCALENDAR
VERSION:2.0
PRODID:-//Tukios.com/
BEGIN:VEVENT
UID:469a91dd-bc67-45d7-8cd4-7028328d4ee3@www.edleemortuary.com
DTSTAMP:20260419T225731Z
DTSTART:20260424T133000Z
DTEND:20260424T170000Z
SUMMARY:Visitation
DESCRIPTION:
URL:https://www.edleemortuary.com/obituaries/teresa-horsting
LOCATION:Ed L. Lee Mortuary 620 E Viola Ave  Washington IN 47501
GEO:38.6697713;-87.1665656
END:VEVENT
END:VCALENDAR