BEGIN:VCALENDAR
VERSION:2.0
PRODID:-//Tukios.com/
BEGIN:VEVENT
UID:6971483b-a717-468e-8929-1b8dc90b4ba4@www.edleemortuary.com
DTSTAMP:20260421T224136Z
DTSTART:20260427T150000Z
DTEND:20260427T160000Z
SUMMARY:Mass
DESCRIPTION:
URL:https://www.edleemortuary.com/obituaries/sylvia-schnarr
LOCATION:Our Lady of Hope Catholic Church 315 Northeast 3rd Street  
	Washington IN 47501
GEO:38.6602633;-87.1725853
END:VEVENT
END:VCALENDAR