BEGIN:VCALENDAR
VERSION:2.0
PRODID:-//Tukios.com/
BEGIN:VEVENT
UID:c9e948f7-852a-4757-96da-14f8818929b5@www.edleemortuary.com
DTSTAMP:20260421T224927Z
DTSTART:20260427T130000Z
DTEND:20260427T145000Z
SUMMARY:Visitation
DESCRIPTION:
URL:https://www.edleemortuary.com/obituaries/sylvia-schnarr
LOCATION:Our Lady of Hope Catholic Church 315 Northeast 3rd Street  
	Washington IN 47501
GEO:38.6602633;-87.1725853
END:VEVENT
END:VCALENDAR